BEGIN:VCALENDAR
VERSION:2.0
PRODID:-//wp-events-plugin.com//7.2.3.1//EN
TZID:Europe/Berlin
X-WR-TIMEZONE:Europe/Berlin
BEGIN:VEVENT
UID:14@bic-kl.de
DTSTART;TZID=Europe/Berlin:20260610T120000
DTEND;TZID=Europe/Berlin:20260610T180000
DTSTAMP:20260422T151748Z
URL:https://bic-kl.de/events/venture-dates-2026/
SUMMARY:Venture Dates 2026
DESCRIPTION:Venture Dates - Hot Startups - Cool Matches\nVenture Dates biet
 et eine Plattform für Start-ups\, Investor:innen und Mitgründer:innen\, 
 um sich zu vernetzen\, auszutauschen und wertvolle Kontakte zu knüpfen. A
 m 10. Juni 2026 findet die Veranstaltung erneut in Kaiserslautern im bic s
 tatt – als Teil des KTUR-Projekts\, in Kooperation mit der Innovationsag
 entur RLP.\nDer Tag gliedert sich in zwei Teile:\n🔒 INTERNE VERANSTALTU
 NG – Nur für Start-ups &amp\; Investor:innen\n🔓 ÖFFENTLICHE VERANST
 ALTUNG – Ab 15 Uhr für alle offen\nBeim Speed-Dating können sich Start
 -ups und Investor:innen an Ständen kennenlernen. Die drei besten Start-up
 s pitchen ihre Ideen anschließend beim öffentlichen Teil und können tol
 le Preise gewinnen. Der Tag klingt mit Networking bei Snacks und Getränke
 n aus.\nAnmeldefristen:\n📌 10. Mai 2026 für Start-ups\n📌 31. Mai 20
 26 für Investor:innen\nWeitere Informationen und Anmeldung:&nbsp\;\n\nZur
  Homepage der Venture Dates 2026\n\n&nbsp\;\n\nEindrücke von den Venture 
 Dates 2023 im bic:\n\nZum Rückblick der Venture Dates 2023 im bic\n\n&nbs
 p\;
ATTACH;FMTTYPE=image/jpeg:https://bic-kl.de/wp-content/uploads/Venture-Dat
 es-2026-scaled.jpg
CATEGORIES:Startup
LOCATION:Business + Innovation Center Kaiserslautern GmbH\, Trippstadter St
 r. 110\, Kaiserslautern\, 67663\, Deutschland
X-APPLE-STRUCTURED-LOCATION;VALUE=URI;X-ADDRESS=Trippstadter Str. 110\, Kai
 serslautern\, 67663\, Deutschland;X-APPLE-RADIUS=100;X-TITLE=Business + In
 novation Center Kaiserslautern GmbH:geo:0,0
END:VEVENT
BEGIN:VTIMEZONE
TZID:Europe/Berlin
X-LIC-LOCATION:Europe/Berlin
BEGIN:DAYLIGHT
DTSTART:20260329T030000
TZOFFSETFROM:+0100
TZOFFSETTO:+0200
TZNAME:CEST
END:DAYLIGHT
END:VTIMEZONE
END:VCALENDAR