BEGIN:VCALENDAR
VERSION:2.0
PRODID:-//wp-events-plugin.com//7.2.3.1//EN
TZID:Europe/Berlin
X-WR-TIMEZONE:Europe/Berlin
BEGIN:VEVENT
UID:13@bic-kl.de
DTSTART;TZID=Europe/Berlin:20230712T080000
DTEND;TZID=Europe/Berlin:20230712T180000
DTSTAMP:20260422T145249Z
URL:https://bic-kl.de/events/venture-dates-2023/
SUMMARY:Venture Dates 2023: Startups meet Investors
DESCRIPTION:Venture Dates: Startups meet Investors\nAm 12. Juli ging es wie
 der rund in unserem Meeting Space. Venture Dates bieten eine Plattform fü
 r Startups\, Investor*innen und Co-Founder\, um zusammen zu kommen\, Ideen
  auszutauschen und wertvolle Kontakte zu knüpfen. Diese zehn Startups nut
 zten die Gelegenheit ihre Geschäftsidee im Rahmen der Venture Dates Inves
 toren zu pitchen:\n\n 	DutyPay GmbH\n 	Hezo Sports GmbH\n 	IdentSpace\n 	I
 nline Process Solutions\n 	istar.ai UG\n 	LUBIS EDA GmbH\n 	Mentalport Gmb
 H\n 	Particula GmbH\n 	Pfalzfackel\n 	ZIGGURAT\n\nDie begehrten Preise fü
 r die besten Pitches räumten Inline Process Solutions (Publikumspreis) un
 d Lubis EDA („Gründer des Jahres“) ab. Herzlichen Glückwunsch!\n\nWi
 r bedanken uns bei allen Startups\, Mitveranstaltern und Investoren für d
 as gelungene Event.\n\nVeranstalter des Events: Lehrstuhl Entrepreneurship
  RPTU\, BIC\, Gründungsbüro Kaiserslautern\, Gipfelsprint\, Ideenwald\, 
 SIAK.\n\n[ngg src="galleries" ids="7" display="imagebrowser" maximum_entit
 y_count="500"]
ATTACH;FMTTYPE=image/jpeg:https://bic-kl.de/wp-content/uploads/Logo_Ventur
 eDates_aufWeiss-scaled.png
CATEGORIES:Startup
LOCATION:Business + Innovation Center Kaiserslautern GmbH\, Trippstadter St
 r. 110\, Kaiserslautern\, 67663\, Deutschland
X-APPLE-STRUCTURED-LOCATION;VALUE=URI;X-ADDRESS=Trippstadter Str. 110\, Kai
 serslautern\, 67663\, Deutschland;X-APPLE-RADIUS=100;X-TITLE=Business + In
 novation Center Kaiserslautern GmbH:geo:0,0
END:VEVENT
BEGIN:VTIMEZONE
TZID:Europe/Berlin
X-LIC-LOCATION:Europe/Berlin
BEGIN:DAYLIGHT
DTSTART:20230326T030000
TZOFFSETFROM:+0100
TZOFFSETTO:+0200
TZNAME:CEST
END:DAYLIGHT
END:VTIMEZONE
END:VCALENDAR