BEGIN:VCALENDAR
VERSION:2.0
PRODID:-//wp-events-plugin.com//7.2.3.1//EN
TZID:Europe/Berlin
X-WR-TIMEZONE:Europe/Berlin
BEGIN:VEVENT
UID:11@bic-kl.de
DTSTART;TZID=Europe/Berlin:20231128T173000
DTEND;TZID=Europe/Berlin:20231128T210000
DTSTAMP:20260422T133647Z
URL:https://bic-kl.de/events/startups-nights-computing-artificial-intellig
 ence/
SUMMARY:Startups Nights – Computing & Artificial Intelligence
DESCRIPTION:Startups Nights – Computing &amp\; Artificial Intelligence\nZ
 iel dieses Networking-Events war es\, mit und für Startups\, etablierten 
 Unternehmen\, ForscherInnen und InvestorInnen unsere gemeinsame Innovation
 skraft in Rheinland-Pfalz rund um Informationstechnologie und künstliche 
 Intelligenz nach außen hin sichtbar zu machen und Kooperationen zu stärk
 en. Neben der Keynote-Speech waren Startup Pitches mit innovativen und eff
 ektiven Lösungen und eine Podiumsdiskussion die Eckpfeiler des Programms.
  &nbsp\;\nProgrammablauf\n17:30&nbsp\;Themenzentrierte Netzwerktische\n\n1
 8:00&nbsp\;Grußworte aus dem Ministerium für Wirtschaft\, Verkehr\, Land
 wirtschaft und Weinbau Rheinland-Pfalz\n\n18:15&nbsp\;Keynote Speech\n\n 	
 Business Case Digitales Gesundheitswesen: Mehr als nur KI in der Diagnosti
 k\, Norbert Rösch\n\n18:35&nbsp\;Startup Pitches\n\n 	Mit KI zu besseren 
 Produktanforderungen\, Sebastian Adam\, Osseno Software GmbH\n 	AI Think T
 ank: From Research to Production\, Regina Keßler\, Genie Enterprise\n 	Vo
 m Konzept zur KI-Realität: Serverless Computing für Entwicklung\, Traini
 ng und Bereitstellung fertiger KI-Produkte\, Milan Ender\, Aithericon GmbH
 \n\n18:50&nbsp\;Podiumsdiskussion 19:00&nbsp\;Startup Pitches\n\n 	Event 2
 .0: Wie Künstliche Intelligenz die Veranstaltungsbranche revolutioniert\,
  Peter Vogelmann\, EventOS\n 	Von der Kunst Blockchain-Innovation in einer
  konservativen Industrie zu etablieren\, Markus Jostock\, Arxum GmbH\n 	Sk
 illpolis Software Ecosystem – Today’s cities\, tomorrow’s solutions\
 , Linda Breitlauch\, Skilltree GmbH\n\n19:15&nbsp\;Best-Practice Beispiel\
 n\n 	VR auf Fahrgeschäften – Eine neue Dimension für Freizeitparks\, T
 homas Wagner\, VR Coaster GmbH &amp\; Co KG\n\n19:25&nbsp\;Résumé&nbsp\;
 \n\n19:30&nbsp\;Eröffnung des Büffets mit Get-together &nbsp\;\n\n[ngg s
 rc="galleries" ids="1\,2" display="imagebrowser" maximum_entity_count="500
 "]
ATTACH;FMTTYPE=image/jpeg:https://bic-kl.de/wp-content/uploads/LinkAILOGOS
 -3-1.png
CATEGORIES:Startup
LOCATION:Business + Innovation Center Kaiserslautern GmbH\, Trippstadter St
 r. 110\, Kaiserslautern\, 67663\, Deutschland
X-APPLE-STRUCTURED-LOCATION;VALUE=URI;X-ADDRESS=Trippstadter Str. 110\, Kai
 serslautern\, 67663\, Deutschland;X-APPLE-RADIUS=100;X-TITLE=Business + In
 novation Center Kaiserslautern GmbH:geo:0,0
END:VEVENT
BEGIN:VTIMEZONE
TZID:Europe/Berlin
X-LIC-LOCATION:Europe/Berlin
BEGIN:STANDARD
DTSTART:20231029T020000
TZOFFSETFROM:+0200
TZOFFSETTO:+0100
TZNAME:CET
END:STANDARD
END:VTIMEZONE
END:VCALENDAR