BEGIN:VCALENDAR
VERSION:2.0
PRODID:-//wp-events-plugin.com//7.2.3.1//EN
TZID:Europe/Berlin
X-WR-TIMEZONE:Europe/Berlin
BEGIN:VEVENT
UID:8@bic-kl.de
DTSTART;TZID=Europe/Berlin:20250612T180000
DTEND;TZID=Europe/Berlin:20250612T220000
DTSTAMP:20260422T134014Z
URL:https://bic-kl.de/events/startup-stammtisch-how-to-start-your-business
 -in-germany/
SUMMARY:Startup Stammtisch - How to start your business in Germany
DESCRIPTION:Startup Stammtisch - How to start your business in Germany\nHow
  to start your business in Germany!\n\nDiscover the essentials of launchin
 g a business in Germany with practical guidance tailored for aspiring entr
 epreneurs. This session addresses common challenges such as navigating bur
 eaucracy\, recognizing international qualifications\, and overcoming langu
 age barriers.\n\nLed by Martin Swierzy\, an experienced business consultan
 t and coach from the International Founders Training program\, the event o
 ffers expert insights into the German startup landscape. Whether you’re 
 developing a business idea or ready to take the next step\, this session p
 rovides valuable knowledge and resources to support your entrepreneurial j
 ourney.\n\nThe perfect chance to expand your network and make valuable con
 nections!
ATTACH;FMTTYPE=image/jpeg:https://bic-kl.de/wp-content/uploads/Startup-Sta
 mmtisch-12.06.2025-nr3-Insta-Post-1400-x-14000px.png
CATEGORIES:Startup
LOCATION:Business + Innovation Center Kaiserslautern GmbH\, Trippstadter St
 r. 110\, Kaiserslautern\, 67663\, Deutschland
X-APPLE-STRUCTURED-LOCATION;VALUE=URI;X-ADDRESS=Trippstadter Str. 110\, Kai
 serslautern\, 67663\, Deutschland;X-APPLE-RADIUS=100;X-TITLE=Business + In
 novation Center Kaiserslautern GmbH:geo:0,0
END:VEVENT
BEGIN:VTIMEZONE
TZID:Europe/Berlin
X-LIC-LOCATION:Europe/Berlin
BEGIN:DAYLIGHT
DTSTART:20250330T030000
TZOFFSETFROM:+0100
TZOFFSETTO:+0200
TZNAME:CEST
END:DAYLIGHT
END:VTIMEZONE
END:VCALENDAR