BEGIN:VCALENDAR
VERSION:2.0
PRODID:-//wp-events-plugin.com//7.2.3.1//EN
TZID:Europe/Berlin
X-WR-TIMEZONE:Europe/Berlin
BEGIN:VEVENT
UID:12@bic-kl.de
DTSTART;TZID=Europe/Berlin:20231107T173000
DTEND;TZID=Europe/Berlin:20231107T210000
DTSTAMP:20260422T135811Z
URL:https://bic-kl.de/events/startup-nights-greentech-future-engineering/
SUMMARY:Startup Nights - Greentech & Future Engineering
DESCRIPTION:Startup Nights - Greentech &amp\; Future Engineering\nNach den 
 Erfolgen der Startup Nights Gesundheitswirtschaft in den Jahren 2018\, 202
 0 und 2021\, fand am 7. November 2023 die erste Startup Night unter dem Mo
 tto „Greentech &amp\; Future Engineering“ in Kaiserslautern statt. Zie
 l dieses Networking-Events war es\, mit und für Startups\, etablierten Un
 ternehmen\, ForscherInnen und InvestorInnen Wege aufzuzeigen\, wie die nac
 hhaltige Transformation der Wirtschaft heute schon effektiv angepackt wird
 . Neben der Keynote-Speech waren Startup Pitches mit innovativen und effek
 tiven Lösungen für die Energiewende und Kreislaufwirtschaft und eine Pod
 iumsdiskussion die Eckpfeiler des Programms.&nbsp\;\nProgrammablauf\n17:30
 &nbsp\;Themenzentrierte Netzwerktische\n\n18:00&nbsp\;Grußworte aus dem M
 inisterium für Wirtschaft\, Verkehr\, Landwirtschaft und Weinbau Rheinlan
 d-Pfalz\n\n18:15&nbsp\;Keynote Speech\n\n 	Teamwork für eine nachhaltige 
 Zukunft\, Andreas Luthe\n\n18:35&nbsp\;Startup Pitches\n\n 	Das Speicherpr
 oblem mal andersrum\, Jochen Marwede\, Wendeware AG\n 	Product Carbon Foot
 print &amp\; Digitaler Produktpass – Wie Nachhaltigkeit die Industrie re
 volutioniert\, Alexander David\, Greenable GmbH\n 	Schaffung der weltweit 
 führenden Technologie für die Rücknahme und dem Handel von Li-Ion Batte
 rien\, Felix Wagner\, Circunomics GmbH\n\n18:50&nbsp\;Podiumsdiskussion\n\
 n19:00&nbsp\;Startup Pitches\n\n 	Ökotoxikologie als Instrument zur Prüf
 ung von Umwelttechnologien auf Nanobasis\, Ricki Rosenfeldt\, nEcoTox GmbH
 \n 	Die Ecoliance Greentech Innovation GmbH stellt sich vor\, Michael Jako
 b\, Ecoliance Greentech Innovation GmbH\n 	ReInventing the Wheel – Innov
 ative Fertigung von Speichenrädern aus Faserkunststoffverbund\, Thomas Ro
 bbert\, Evolime GmbH\n\n19:15&nbsp\;Best-Practice Beispiel\n\n 	Mit E-Auto
 s und Künstlicher Intelligenz die Energiewende beschleunigen\, Dennis Sch
 ulmeyer\, Lade GmbH\n\n19:25&nbsp\;Résumé&nbsp\;\n\n19:30&nbsp\;Eröffnu
 ng des Büffets mit Get-together\n\n[ngg src="galleries" ids="4\,6" displa
 y="imagebrowser" maximum_entity_count="500"]
ATTACH;FMTTYPE=image/jpeg:https://bic-kl.de/wp-content/uploads/LinkGTLogos
 -2.png
CATEGORIES:Startup
LOCATION:Business + Innovation Center Kaiserslautern GmbH\, Trippstadter St
 r. 110\, Kaiserslautern\, 67663\, Deutschland
X-APPLE-STRUCTURED-LOCATION;VALUE=URI;X-ADDRESS=Trippstadter Str. 110\, Kai
 serslautern\, 67663\, Deutschland;X-APPLE-RADIUS=100;X-TITLE=Business + In
 novation Center Kaiserslautern GmbH:geo:0,0
END:VEVENT
BEGIN:VTIMEZONE
TZID:Europe/Berlin
X-LIC-LOCATION:Europe/Berlin
BEGIN:STANDARD
DTSTART:20231029T020000
TZOFFSETFROM:+0200
TZOFFSETTO:+0100
TZNAME:CET
END:STANDARD
END:VTIMEZONE
END:VCALENDAR