BEGIN:VCALENDAR
VERSION:2.0
PRODID:-//wp-events-plugin.com//7.2.3.1//EN
TZID:Europe/Berlin
X-WR-TIMEZONE:Europe/Berlin
BEGIN:VEVENT
UID:1@bic-kl.de
DTSTART;TZID=Europe/Berlin:20260619T090000
DTEND;TZID=Europe/Berlin:20260619T133000
DTSTAMP:20260420T120725Z
URL:https://bic-kl.de/events/schulwoche26/
SUMMARY:Schülerprojektwoche 2026
DESCRIPTION:Gründergeist entsteht früh\, wenn man es zulässt. Hier knüp
 ft unser Projekt „Schule macht Startup“ an. Eingeladen sind Schülerin
 nen und Schüler der Klassenstufe 11 und 12. Entwickelt zusammen im Plansp
 iel eure eigene Firmenidee!\n\nGefördert wird die Reihe vom Wirtschaftsmi
 nisterium Rheinland-Pfalz (MWVLW) im Rahmen der "Förderung von Maßnahmen
  zur beruflichen Orientierung und praktischen Erprobung außerhalb des Ler
 norts Schule".\n\nDie Projektwoche findet im bic statt. Bis zu acht Teams
  von verschiedenen Schulen entwickeln ihre eigene Business Idee in einem P
 lanspiel. Jedes Team bekommt einen Arbeitsplatz mit Laptop und zusätzlich
 em Bildschirm/Beamer bereitgestellt.\n\nDas nächste Planspiel findet vom 
 19 Juni bis 25. Juni 2026 statt. Themen sind u.a.:\n\n 	Einführung in „
 Kopf schlägt Kapital“ von Günter Faltin“ und „Lean Canvas“ nach 
 Ash Maurya\n 	Wahl eines eigenen Gründungsthemas\n 	Gruppenarbeit und Coa
 ching bei der Geschäftsmodell-Entwicklung\n 	Businessplan-Ausarbeitung im
  Business Canvas\n 	Anleitung für den Investoren-Pitch\n 	Investoren-Pitc
 h der Gruppen\n\nVoraussetzungen für eure Teilnahme:\n\n 	Spaß an Teamar
 beit und am Thema „Gründung“\n 	Teilnahme in Präsenz an allen fünf 
 Tagen der Projektwoche\n 	Anmeldung nur über den/die betreuenden Lehrer/i
 n an eurer Schule mit: Name\, Vorname und E-Mail-Adresse\n\nAnsprechpartne
 rin:\n\n 	Dr. Corinna Faust-Christmann\n 	corinna.faust@bic-kl.de\n 	0631 
 68039 139\n 	Business + Innovation Center Kaiserslautern GmbH\, Trippstadt
 er Straße 110\, 67663 Kaiserslautern\n\nBildnachweis Projektbild: https:/
 /www.pexels.com/photo/people-standing-on-grassfield-with-arms-raised-75517
 83/
ATTACH;FMTTYPE=image/jpeg:https://bic-kl.de/wp-content/uploads/Werbung-Sch
 ule-macht-Startup-2026-HP.png
CATEGORIES:Schule
LOCATION:Business + Innovation Center Kaiserslautern GmbH\, Trippstadter St
 r. 110\, Kaiserslautern\, 67663\, Deutschland
X-APPLE-STRUCTURED-LOCATION;VALUE=URI;X-ADDRESS=Trippstadter Str. 110\, Kai
 serslautern\, 67663\, Deutschland;X-APPLE-RADIUS=100;X-TITLE=Business + In
 novation Center Kaiserslautern GmbH:geo:0,0
END:VEVENT
BEGIN:VTIMEZONE
TZID:Europe/Berlin
X-LIC-LOCATION:Europe/Berlin
BEGIN:DAYLIGHT
DTSTART:20260329T030000
TZOFFSETFROM:+0100
TZOFFSETTO:+0200
TZNAME:CEST
END:DAYLIGHT
END:VTIMEZONE
END:VCALENDAR