BEGIN:VCALENDAR
VERSION:2.0
PRODID:-//wp-events-plugin.com//7.2.3.1//EN
TZID:Europe/Berlin
X-WR-TIMEZONE:Europe/Berlin
BEGIN:VEVENT
UID:4@bic-kl.de
DTSTART;TZID=Europe/Berlin:20260219T170000
DTEND;TZID=Europe/Berlin:20260219T174500
DTSTAMP:20260422T134250Z
URL:https://bic-kl.de/events/gruenderinnenparcours-rlp2026/
SUMMARY:Infoveranstaltung Gründerinnen-Parcours 2026 – Aus Wissen wird B
 usiness
DESCRIPTION:Infoveranstaltung Gründerinnen-Parcours 2026 – Aus Wissen wi
 rd Business\nDer Gründerinnen-Parcours Rheinland-Pfalz ist das neue Accel
 erator-Programm für Wissenschaftlerinnen\, die mit ihrer Idee wirklich du
 rchstarten wollen. Gefördert durch das Ministerium für Wirtschaft\, Verk
 ehr\, Landwirtschaft und Weinbau erwartet dich ein intensives Trainingspro
 gramm\, das dein Wissen schärft\, dein Netzwerk erweitert und dich optima
 l auf deine Unternehmensgründung vorbereitet.\n\nBasierend auf den erfolg
 reichen Formaten des Business + Innovation Center Kaiserslautern (bic) wur
 de ein Programm entwickelt\, das genau auf die Bedürfnisse von Gründerin
 nen mit wissenschaftlichem Background zugeschnitten ist. Hier bekommst du 
 das Know-how\, die Tools und die Unterstützung\, die du brauchst\, um dei
 ne Gründungsidee zum Leben zu bringen.\n\nDurch die Kombination aus Works
 hops\, Seminaren\, individuellem Mentoring und einem Zugang zu einem der g
 rößten Gründungsnetzwerke in Rheinland-Pfalz erhalten die Teilnehmerinn
 en die einmalige Chance\, ihr Basiswissen gezielt auszubauen\, zu vertiefe
 n und sich optimal auf die Unternehmensgründung vorzubereiten.\n\nDie Inf
 overanstaltung richtet sich an alle interessierten Gründerinnen und berei
 ts registrierte Teilnehmerinnen des Parcours. Die Vorstellung des Projekts
  erfolgt durch das Projektteam. Informiere Dich über Inhalte\, Ablauf und
  Timing im Gründerinnenparcours Rheinland-Pfalz. Natürlich hast Du auch 
 Gelegenheit Fragen zu stellen. Auch nach der Veranstaltung steht dir die P
 rojektleitung für Fragen zur Verfügung.\n\nWachse mit deiner Idee\n\nAuf
 bauend auf den erfolgreichen Projekten des Business + Innovation Center Ka
 iserslautern (bic) wird ein speziell auf die Zielgruppe zugeschnittenes Tr
 ainingsprogramm umgesetzt. Dabei werden neben klassischen Gründungsthemen
  wie Marketing\, Markenschutz\, Vertrieb und Finanzen auch gründerinnensp
 ezifische Inhalte sowie professionelles Coaching/Mentoring in einem Mix au
 s Präsenz- und Onlineveranstaltungen angeboten.\n\nDie Teilnahme am Grün
 derinnen-Parcours ist dank der Förderung durch das Ministerium für Wirts
 chaft\, Verkehr\, Landwirtschaft und Weinbau Rheinland-Pfalz kostenfrei. D
 ie Anzahl der verfügbaren Plätze ist begrenzt.\n\nMehr Infos\, Anmeldung
 en zur Infoveranstaltung und Bewerbungsmöglichkeit für interessierte Wis
 senschaftlerinnen gibt es ab dem 8. Januar 2026 auf:&nbsp\;https://www.gru
 enderinnen-rlp.de\n\nInteressentinnen können sich vorab unter&nbsp\;hello
 @gruenderinnen-rlp.de&nbsp\;für News zum Programm registrieren lassen.
ATTACH;FMTTYPE=image/jpeg:https://bic-kl.de/wp-content/uploads/Header_bic-
 Webseite-Event.png
CATEGORIES:Gründerinnen
LOCATION:Business + Innovation Center Kaiserslautern GmbH\, Trippstadter St
 r. 110\, Kaiserslautern\, 67663\, Deutschland
X-APPLE-STRUCTURED-LOCATION;VALUE=URI;X-ADDRESS=Trippstadter Str. 110\, Kai
 serslautern\, 67663\, Deutschland;X-APPLE-RADIUS=100;X-TITLE=Business + In
 novation Center Kaiserslautern GmbH:geo:0,0
END:VEVENT
BEGIN:VTIMEZONE
TZID:Europe/Berlin
X-LIC-LOCATION:Europe/Berlin
BEGIN:STANDARD
DTSTART:20251026T020000
TZOFFSETFROM:+0200
TZOFFSETTO:+0100
TZNAME:CET
END:STANDARD
END:VTIMEZONE
END:VCALENDAR