BEGIN:VCALENDAR
VERSION:2.0
PRODID:-//wp-events-plugin.com//7.2.3.1//EN
TZID:Europe/Berlin
X-WR-TIMEZONE:Europe/Berlin
BEGIN:VEVENT
UID:15@bic-kl.de
DTSTART;TZID=Europe/Berlin:20230926T110000
DTEND;TZID=Europe/Berlin:20230926T130000
DTSTAMP:20260422T154350Z
URL:https://bic-kl.de/events/gruenderinnen-lunch-2023/
SUMMARY:12. GRÜNDERINNEN-LUNCH im bic mit Ministerpräsidentin Malu Dreyer
  und Oberbürgermeisterin Beate Kimmel
DESCRIPTION:Gründerinnenlunch im bic mit Ministerpräsidentin Malu Dreyer 
 und Oberbürgermeisterin Beate Kimmel\nAm 26.09.2023 hatten wir das große
  Vergnügen\, den 12. Gründerinnenlunch auszurichten. Es war ein Tag voll
 er faszinierender Begegnungen und inspirierender Gespräche. Das bic ist s
 tolz darauf\, ein so vielfältiges Netzwerk von Gründerinnen und herausra
 genden Frauen aus unterschiedlichen Branchen zu unterstützen. Dieses Tref
 fen hat erneut gezeigt\, wie lebendig und innovativ die Gründerszene in u
 nserer Region ist. Unser herzlicher Dank geht an alle Beteiligten\, Gründ
 erinnen und Teilnehmerinnen\, insbesondere an Ministerpräsidentin Malu Dr
 eyer\, Oberbürgermeisterin Beate Kimmel\, Dr.-Ing. Anne Friebel von Inlin
 e Process Solutions und Lisa Reinheimer von klassenheld und Dr. Stefan Wei
 ler für ihre inspirierenden Beiträge. Wir waren zutiefst beeindruckt von
  der Energie und dem Engagement\, das diese Frauen in ihre Projekte und Id
 een stecken.\n\nPressemitteilung der Landesregierung Rheinland-Pfalz:\n\nM
 inisterpräsidentin Malu Dreyer: Selbständigkeit braucht Mutmacherinnen .
  Internetportal des Landes Rheinland-Pfalz (rlp.de)\n\nArtikel der Rheinpf
 alz:\n\nBeim Gründerinnen-Lunch will Ministerpräsidentin Malu Dreyer Mut
  machen – Kaiserslautern – DIE RHEINPFALZ\n\n[ngg src="galleries" ids=
 "8" display="imagebrowser" maximum_entity_count="500"]
ATTACH;FMTTYPE=image/jpeg:https://bic-kl.de/wp-content/uploads/Bild1-1536x
 1004-1.jpg
CATEGORIES:Gründerinnen
LOCATION:Business + Innovation Center Kaiserslautern GmbH\, Trippstadter St
 r. 110\, Kaiserslautern\, 67663\, Deutschland
X-APPLE-STRUCTURED-LOCATION;VALUE=URI;X-ADDRESS=Trippstadter Str. 110\, Kai
 serslautern\, 67663\, Deutschland;X-APPLE-RADIUS=100;X-TITLE=Business + In
 novation Center Kaiserslautern GmbH:geo:0,0
END:VEVENT
BEGIN:VTIMEZONE
TZID:Europe/Berlin
X-LIC-LOCATION:Europe/Berlin
BEGIN:DAYLIGHT
DTSTART:20230326T030000
TZOFFSETFROM:+0100
TZOFFSETTO:+0200
TZNAME:CEST
END:DAYLIGHT
END:VTIMEZONE
END:VCALENDAR