BEGIN:VCALENDAR
VERSION:2.0
PRODID:-//wp-events-plugin.com//7.2.3.1//EN
TZID:Europe/Berlin
X-WR-TIMEZONE:Europe/Berlin
BEGIN:VEVENT
UID:6@bic-kl.de
DTSTART;TZID=Europe/Berlin:20260121T100000
DTEND;TZID=Europe/Berlin:20260121T163000
DTSTAMP:20260422T134131Z
URL:https://bic-kl.de/events/ehealth-symposium-suedwest-2026/
SUMMARY:eHealth-Symposium Südwest 2026
DESCRIPTION:eHealth-Symposium Südwest 2026\nDie Gesundheitsversorgung sieh
 t sich fortlaufend neuen Herausforderungen gegenübergestellt. Dabei steig
 t der Druck effektive und effiziente neue Wege durch digitale Lösungen in
  der Gesundheitsversorgung zu gehen. Die Digitalisierung ist dabei kein Se
 lbstzweck\, ihr Ziel ist stets eine bessere medizinische Versorgung für 
 Ärzte\, Kliniken und Patienten.\n\nDas eHealth-Symposium Südwest zeigt s
 eit 2018 jedes Jahr mit einem interdisziplinären Fachpublikum aus Medizin
 \, Forschung\, Wirtschaft und Politik mit einem anspruchsvollen und vielf
 ältigen Programm innovative Lösungen\, aktuelle Entwicklungen und Neuhei
 ten im eHealth-Südwesten von Deutschland. Seit der ersten Veranstaltung 2
 018 tauschen sich jährlich über 150 Akteure über den Einsatz von künst
 licher Intelligenz\, Big Data\, Precision Medicine und andere innovativen 
 Ideen aus.\n\nVeranstalter sind das Business + Innovation Center Kaisersla
 utern (bic)\, die Empolis Information Management GmbH\, die Westpfalz-Klin
 ikum GmbH\, sowie 5-HT Chemistry &amp\; Health.\n\nWeitere Informationen u
 nter eHealth Symposium – 21. Januar 2026\n\nDownloads\n\nWerfen Sie eine
 n Blick in die Programmpunkte aus den letzten Jahren.\n\n2018\n\n2019\n\n2
 020\n\n2021\n\n2022\n\n2023\n\n2024
ATTACH;FMTTYPE=image/jpeg:https://bic-kl.de/wp-content/uploads/eHealth-Sym
 posium_Screen_2160x1080px_02072025-scaled.jpg
CATEGORIES:Health
LOCATION:Business + Innovation Center Kaiserslautern GmbH\, Trippstadter St
 r. 110\, Kaiserslautern\, 67663\, Deutschland
X-APPLE-STRUCTURED-LOCATION;VALUE=URI;X-ADDRESS=Trippstadter Str. 110\, Kai
 serslautern\, 67663\, Deutschland;X-APPLE-RADIUS=100;X-TITLE=Business + In
 novation Center Kaiserslautern GmbH:geo:0,0
END:VEVENT
BEGIN:VTIMEZONE
TZID:Europe/Berlin
X-LIC-LOCATION:Europe/Berlin
BEGIN:STANDARD
DTSTART:20251026T020000
TZOFFSETFROM:+0200
TZOFFSETTO:+0100
TZNAME:CET
END:STANDARD
END:VTIMEZONE
END:VCALENDAR