BEGIN:VCALENDAR
VERSION:2.0
PRODID:-//wp-events-plugin.com//7.2.3.1//EN
TZID:Europe/Berlin
X-WR-TIMEZONE:Europe/Berlin
BEGIN:VEVENT
UID:9@bic-kl.de
DTSTART;TZID=Europe/Berlin:20250509T183000
DTEND;TZID=Europe/Berlin:20250509T230000
DTSTAMP:20260422T161413Z
URL:https://bic-kl.de/events/besucht-uns-im-bic-in-der-nacht-die-wissen-sc
 hafft/
SUMMARY:Besucht uns im bic in der „Nacht\, die Wissen schafft“
DESCRIPTION:Besucht uns im bic in der „Nacht\, die Wissen schafft“\nWas
  erwartet die Besucher im bic?\nIn der „Nacht\, die Wissen schafft“ ze
 igen unsere Startups ihre spannenden Visionen und den aktuellen Status der
  reale Umsetzung. Visionär ist auch der kosmische Mix aus Wissen\, Kunst 
 und Tech: Untermalt mit Musik aus einer anderen Dimension erleben Besucher
  Galaxien und die Geburtsnester von Sternen hautnah im bic\, während das 
 TechMotion Lab außergewöhnliche Technik-Highlights zum Mitmachen präsen
 tiert und eine szenische Lesung die Vergangenheit und Zukunft städtischen
  Lebens thematisiert.\n\nUnser Programm im Detail:\n\nEin kosmischer Mix: 
 Wissen\, Kunst und Tech\nKosmische Lichtskulpturen zeigen den Weltraum auf
  eine neuartige Weise. Untermalt mit Musik aus einer anderen Dimension erl
 eben Sie Galaxien und die Geburtsnester von Sternen hautnah im bic (Dr. Wo
 lfgang Steffen\, ilumbra).\n\nRUPPERT SPIELT\nIn der „Nacht\, die Wissen
  schafft“\, sorgt Sven Ruppert für die passende Geräuschkulisse. Die A
 usstellung im bic\, die sich mit kosmischen Lichtskulpturen befasst\, wird
  somit auch akustisch in Szene gesetzt: Artifizielle Klänge\, Pedaltöne\
 , Schwebungen\, Sci-Fi (Sven Ruppert).\n\nBELLEVILLE WORTWERKSTADT UNTERWE
 GS IM BIC\nEine Lesung mit Bildern.\nVon ehemaligen Stadtvierteln\, dem We
 rt von 15 Minuten und Streichel-Hasen auf dem Dach der Lautrer Mall. Kurzu
 m – von der Vergangenheit und Zukunft städtischen Lebens. Eine Lesung v
 on und mit Ina Bartenschlager\, Autorin und Artivistin der Belleville wort
 werkstadt in der Lautrer Innenstadt.\n\nTechMotion Lab – Faszination Bew
 egung\nDie ARSCOM-GmbH präsentiert ihr TechMotion Lab unter dem Motto „
 Faszination Bewegung“. Entdecken Sie drei außergewöhnliche Technik-Hig
 hlights: die LED-Rennbahn LightRacer\, ein laufender Coffee Table und den 
 selbstgebauten BB8-Droiden für den ganz persönlichen Star&nbsp\; Wars-Ko
 ntakt.\n\nIngo Bracke\nDie Lichtinstallation&nbsp\;ZERO.ONE&nbsp\;von Ingo
  Bracke erstrahlt im neuen „alten“ Licht erstmals in dieser Nacht wied
 er am bic-Gebäude. Die Kunsthistorikerin Claudia Luxbacher führt in Brac
 kes Lichtkunst ein. Im Inneren des bic zeigt der Künstler eine digitale P
 räsentation zu ZERO.ONE und weiteren Lichtkunstprojekten.\n\nGründerspir
 it im bic\nDie im bic ansässigen Unternehmen – sei es ein frisch gegrü
 ndetes Start-up oder ein schon etwas länger agierendes\, junges Unternehm
 en – präsentieren sich und ihre erfolgreichen Gründungsideen. Erfahren
  Sie in einer informativen Ausstellung mehr über die Visionen und deren r
 eale Umsetzung der Unternehmen im bic.\n\n 	greenable (Info-Stand):&nbsp\;
 Wir bei greenable bieten eine zertifizierte All-in-One-Lösung zur einfach
 en\, schnellen und vertrauensvollen Berechnung des CO2-Fußabdrucks auf Pr
 oduktebene für produzierende Unternehmen aus den Branchen Maschinenbau\, 
 Kunststoffe\, Automotive und Möbel: Der sofortige Einstieg in die CO2-Bil
 anzierung von Produkt insbesondere für Nicht-Experten.\n 	Inline Process 
 Solutions (Live-Demonstration):&nbsp\;Inline Process Solutions (IPS) macht
  mit seinen Sensoren Partikel in Chemieanlagen sichtbar. Dadurch werden Ch
 emieprozesse besser verstanden und es kann nachhaltiger und preiswerter pr
 oduziert werden.\n 	Refactum (Info-Stand):&nbsp\;Das Rüsten und Programmi
 eren einer CNC-Maschine ist oft zeitaufwendig und fehleranfällig – wir 
 ändern das. REFACTUM erstellt Arbeits- und Rüstpläne auf Knopfdruck und
  bringt so einen Auftrag schneller in die Maschine.\n 	relticc&nbsp\;(Live
 -Demonstration):&nbsp\;relticc entwickelt eine Produktmarketing-Plattform 
 für interaktive 3D-Erlebnisse in der Cloud – präsentieren\, konfigurie
 ren\, erleben auf höchstem visuellen Niveau.\n 	SWIS (Info-Stand):&nbsp\;
 SWIS (Sustainable Water Infrastruktur Solutions) ist ein Startup aus Kaise
 rslautern. Die SWIS bietet ein Tool zur automatisierten Planung von Kanaln
 etzen.\n 	Wendeware AG (Live-Demonstration):&nbsp\;Die Wendeware AG entwic
 kelt innovative Energiemanagement-Systeme für Industrie\, Gewerbe und pri
 vate Haushalte – mit dem Fokus auf Effizienz\, Flexibilität und zukunft
 ssichere Technologien. Mit dem AMPERIX® EMS bietet sie eine intelligente\
 , KI-gestützte Lösung zur Steuerung von Energieflüssen\, unterstützt d
 urch starke Partner wie das Fraunhofer ITWM.\n\nProjekte im bic\nDie Proje
 kte des bic unterstützen die (angehenden) Gründer und Gründerinnen auf 
 ihrem Weg in eine erfolgreiche Zukunft. Das Business + Innovation Center l
 iefert über sein Expertennetzwerk wertvolles Wissen und hilfreiche Unters
 tützung mit vielseitigen Projekten.\n\nVerpflegung\nDer Imbiss „Boll Bu
 rger“ steht vor dem Gebäude des bic bereit und bietet Burger\, Pommes &
 amp\; mehr zur Stärkung an.\nProgramm:\n\n 	19.00 Uhr: Eröffnung des Abe
 nds durch Prof. Dr. Steininger\, Geschäftsführer des Business + Innovati
 on Center\n 	19.15 Uhr: Re-Opening der Lichtinstallation ZERO.ONE von Ingo
  Bracke (Kunst am Bau)\nEinführung in die Lichtkunst von Ingo Bracke durc
 h Kunsthistorikerin Claudia Luxbacher\n 	19.30 Uhr: Kurz erklärt: „Der 
 kleine WeltRaum“ – Dr. Wolfgang Steffen und seine kosmischen Lichtskul
 pturen. Untermalt mit Musik aus einer anderen Dimension\, kreiiert von Sve
 n Ruppert\, erleben Besucher Galaxien und die Geburtsnester von Sternen ha
 utnah im bic.\n 	19.45 Uhr: Belleville WortWerkStadt – Szenische Lesung 
 mit Ina Bartenschlager\n 	20.15 Uhr: Belleville WortWerkStadt – Szenisch
 e Lesung\n 	21.00 Uhr: Belleville WortWerkStadt – Szenische Lesung\n 	21
 :30 Uhr&nbsp\;(nach Sonnenuntergang)&nbsp\;– Re-Opening der Lichtinstall
 ation ZERO.ONE mit Künstlergespräch mit Ingo Bracke und Claudia Luxbache
 r M.A.\nTreffpunkt: Freitreppe vor der Fassade des bic\n\nProgramm und wei
 tere Infos unter:&nbsp\;https://nacht-die-wissen-schafft.lineupr.com/nacht
 -die-wissen-schafft/
ATTACH;FMTTYPE=image/jpeg:https://bic-kl.de/wp-content/uploads/Motiv-1_N8d
 Ws-25.png
CATEGORIES:Startup
LOCATION:Business + Innovation Center Kaiserslautern GmbH\, Trippstadter St
 r. 110\, Kaiserslautern\, 67663\, Deutschland
X-APPLE-STRUCTURED-LOCATION;VALUE=URI;X-ADDRESS=Trippstadter Str. 110\, Kai
 serslautern\, 67663\, Deutschland;X-APPLE-RADIUS=100;X-TITLE=Business + In
 novation Center Kaiserslautern GmbH:geo:0,0
END:VEVENT
BEGIN:VTIMEZONE
TZID:Europe/Berlin
X-LIC-LOCATION:Europe/Berlin
BEGIN:DAYLIGHT
DTSTART:20250330T030000
TZOFFSETFROM:+0100
TZOFFSETTO:+0200
TZNAME:CEST
END:DAYLIGHT
END:VTIMEZONE
END:VCALENDAR