BEGIN:VCALENDAR
VERSION:2.0
PRODID:-//wp-events-plugin.com//7.2.3.1//EN
TZID:Europe/Berlin
X-WR-TIMEZONE:Europe/Berlin
BEGIN:VEVENT
UID:10@bic-kl.de
DTSTART;TZID=Europe/Berlin:20250218T170000
DTEND;TZID=Europe/Berlin:20250218T190000
DTSTAMP:20260422T133808Z
URL:https://bic-kl.de/events/123-go-auftaktveranstaltung-2025/
SUMMARY:1\,2\,3 GO® Auftaktveranstaltung
DESCRIPTION:1\,2\,3 GO® Auftaktveranstaltung\nKennenlernen der Coaches und
  Teilnehmenden in entspannter Runde\n\nAuftakt zur neuen Runde 1\,2\,3 GO
 ®-Businessplan-Wettbewerb in Rheinland-Pfalz im bic in Kaiserslautern. Ei
 ngeladen sind für den 1\,2\,3 GO®-Parcours zugelassene Gründerinnen und
  Gründer mit innovativen Geschäftsideen sowie Coaches und Juroren.\n\nAn
 meldung nur für 1\,2\,3 GO®-Coaches und zugelassene Teams über die 1\,2
 \,3 GO®-Website:\n\n123go-networking.de
ATTACH;FMTTYPE=image/jpeg:https://bic-kl.de/wp-content/uploads/123GO_Busin
 essplan-Wettbewerb-768x768-1.jpg
CATEGORIES:1,2,3 GO®
LOCATION:Business + Innovation Center Kaiserslautern GmbH\, Trippstadter St
 r. 110\, Kaiserslautern\, 67663\, Deutschland
X-APPLE-STRUCTURED-LOCATION;VALUE=URI;X-ADDRESS=Trippstadter Str. 110\, Kai
 serslautern\, 67663\, Deutschland;X-APPLE-RADIUS=100;X-TITLE=Business + In
 novation Center Kaiserslautern GmbH:geo:0,0
END:VEVENT
BEGIN:VTIMEZONE
TZID:Europe/Berlin
X-LIC-LOCATION:Europe/Berlin
BEGIN:STANDARD
DTSTART:20241027T020000
TZOFFSETFROM:+0200
TZOFFSETTO:+0100
TZNAME:CET
END:STANDARD
END:VTIMEZONE
END:VCALENDAR